Package: CNVRanger Version: 1.25.4 Command: rm -rf CNVRanger.buildbin-libdir && mkdir CNVRanger.buildbin-libdir && /Users/biocbuild/BBS/utils/build-universal.sh CNVRanger_1.25.4.tar.gz /Library/Frameworks/R.framework/Resources/bin/R CNVRanger.buildbin-libdir StartedAt: 2025-07-22 22:19:54 -0400 (Tue, 22 Jul 2025) EndedAt: 2025-07-22 22:20:04 -0400 (Tue, 22 Jul 2025) EllapsedTime: 10.2 seconds RetCode: 0 Status: OK PackageFile: CNVRanger_1.25.4.tgz PackageFileSize: 2.082 MiB