Package: CNVMetrics Version: 1.13.0 Command: /home/biocbuild/R/R/bin/R CMD build --keep-empty-dirs --no-resave-data CNVMetrics StartedAt: 2025-07-14 22:42:09 -0000 (Mon, 14 Jul 2025) EndedAt: 2025-07-14 22:43:07 -0000 (Mon, 14 Jul 2025) EllapsedTime: 58.0 seconds RetCode: 0 Status: OK PackageFile: CNVMetrics_1.13.0.tar.gz PackageFileSize: 4.488 MiB