Package: CNVMetrics Version: 1.13.0 Command: F:\biocbuild\bbs-3.22-bioc\R\bin\R.exe CMD INSTALL CNVMetrics StartedAt: 2025-07-14 17:02:44 -0400 (Mon, 14 Jul 2025) EndedAt: 2025-07-14 17:03:23 -0400 (Mon, 14 Jul 2025) EllapsedTime: 39.2 seconds RetCode: 0 Status: OK