Package: CNVMetrics Version: 1.13.0 Command: F:\biocbuild\bbs-3.22-bioc\R\bin\R.exe CMD check --no-multiarch --install=check:CNVMetrics.install-out.txt --library=F:\biocbuild\bbs-3.22-bioc\R\library --no-vignettes --timings CNVMetrics_1.13.0.tar.gz StartedAt: 2025-07-15 00:38:28 -0400 (Tue, 15 Jul 2025) EndedAt: 2025-07-15 00:41:01 -0400 (Tue, 15 Jul 2025) EllapsedTime: 153.3 seconds RetCode: 0 Status: OK CheckDir: CNVMetrics.Rcheck Warnings: 0