Package: CNVMetrics Version: 1.13.0 Command: rm -rf CNVMetrics.buildbin-libdir && mkdir CNVMetrics.buildbin-libdir && F:\biocbuild\bbs-3.22-bioc\R\bin\R.exe CMD INSTALL --build --library=CNVMetrics.buildbin-libdir CNVMetrics_1.13.0.tar.gz StartedAt: 2025-07-14 08:43:22 -0400 (Mon, 14 Jul 2025) EndedAt: 2025-07-14 08:43:48 -0400 (Mon, 14 Jul 2025) EllapsedTime: 25.5 seconds RetCode: 0 Status: OK PackageFile: CNVMetrics_1.13.0.zip PackageFileSize: 2.511 MiB