Package: CNTools Version: 1.65.0 Command: /home/biocbuild/R/R/bin/R CMD check --install=check:CNTools.install-out.txt --library=/home/biocbuild/R/R/site-library --no-vignettes --timings CNTools_1.65.0.tar.gz StartedAt: 2025-07-18 05:29:10 -0000 (Fri, 18 Jul 2025) EndedAt: 2025-07-18 05:31:38 -0000 (Fri, 18 Jul 2025) EllapsedTime: 148.2 seconds RetCode: 0 Status: OK CheckDir: CNTools.Rcheck Warnings: 0