Package: CNTools Version: 1.65.0 Command: chmod a+r CNTools -R && F:\biocbuild\bbs-3.22-bioc\R\bin\R.exe CMD build --keep-empty-dirs --no-resave-data CNTools StartedAt: 2025-07-22 18:07:27 -0400 (Tue, 22 Jul 2025) EndedAt: 2025-07-22 18:08:10 -0400 (Tue, 22 Jul 2025) EllapsedTime: 42.7 seconds RetCode: 0 Status: OK PackageFile: CNTools_1.65.0.tar.gz PackageFileSize: 867.3 KiB