Package: CNTools Version: 1.65.0 Command: rm -rf CNTools.buildbin-libdir && mkdir CNTools.buildbin-libdir && F:\biocbuild\bbs-3.22-bioc\R\bin\R.exe CMD INSTALL --build --library=CNTools.buildbin-libdir CNTools_1.65.0.tar.gz StartedAt: 2025-07-23 08:50:28 -0400 (Wed, 23 Jul 2025) EndedAt: 2025-07-23 08:51:08 -0400 (Wed, 23 Jul 2025) EllapsedTime: 40.9 seconds RetCode: 0 Status: OK PackageFile: CNTools_1.65.0.zip PackageFileSize: 1.106 MiB