Package: CNTools Version: 1.65.0 Command: /Library/Frameworks/R.framework/Resources/bin/R CMD INSTALL CNTools StartedAt: 2025-07-18 15:23:40 -0400 (Fri, 18 Jul 2025) EndedAt: 2025-07-18 15:24:06 -0400 (Fri, 18 Jul 2025) EllapsedTime: 25.8 seconds RetCode: 0 Status: OK