Package: CNTools Version: 1.65.0 Command: /Library/Frameworks/R.framework/Resources/bin/R CMD build --keep-empty-dirs --no-resave-data CNTools StartedAt: 2025-07-20 16:30:59 -0400 (Sun, 20 Jul 2025) EndedAt: 2025-07-20 16:31:33 -0400 (Sun, 20 Jul 2025) EllapsedTime: 34.3 seconds RetCode: 0 Status: OK PackageFile: CNTools_1.65.0.tar.gz PackageFileSize: 958 KiB