Package: CNTools Version: 1.65.0 Command: rm -rf CNTools.buildbin-libdir && mkdir CNTools.buildbin-libdir && /Users/biocbuild/BBS/utils/build-universal.sh CNTools_1.65.0.tar.gz /Library/Frameworks/R.framework/Resources/bin/R CNTools.buildbin-libdir StartedAt: 2025-07-19 00:42:47 -0400 (Sat, 19 Jul 2025) EndedAt: 2025-07-19 00:43:16 -0400 (Sat, 19 Jul 2025) EllapsedTime: 28.9 seconds RetCode: 0 Status: OK PackageFile: CNTools_1.65.0.tgz PackageFileSize: 1.188 MiB