Package: CNTools Version: 1.65.0 Command: /Library/Frameworks/R.framework/Resources/bin/R CMD check --install=check:CNTools.install-out.txt --library=/Library/Frameworks/R.framework/Resources/library --no-vignettes --timings CNTools_1.65.0.tar.gz StartedAt: 2025-07-14 18:35:54 -0400 (Mon, 14 Jul 2025) EndedAt: 2025-07-14 18:36:44 -0400 (Mon, 14 Jul 2025) EllapsedTime: 49.7 seconds RetCode: 0 Status: OK CheckDir: CNTools.Rcheck Warnings: 0