Package: CNTools Version: 1.65.0 Command: rm -rf CNTools.buildbin-libdir && mkdir CNTools.buildbin-libdir && /Users/biocbuild/BBS/utils/build-universal.sh CNTools_1.65.0.tar.gz /Library/Frameworks/R.framework/Resources/bin/R CNTools.buildbin-libdir StartedAt: 2025-07-14 22:14:36 -0400 (Mon, 14 Jul 2025) EndedAt: 2025-07-14 22:14:44 -0400 (Mon, 14 Jul 2025) EllapsedTime: 8.2 seconds RetCode: 0 Status: OK PackageFile: CNTools_1.65.0.tgz PackageFileSize: 1.189 MiB