Package: CNORfuzzy Version: 1.51.0 Command: /Library/Frameworks/R.framework/Resources/bin/R CMD check --install=check:CNORfuzzy.install-out.txt --library=/Library/Frameworks/R.framework/Resources/library --no-vignettes --timings CNORfuzzy_1.51.0.tar.gz StartedAt: 2025-06-29 19:40:09 -0400 (Sun, 29 Jun 2025) EndedAt: 2025-06-29 19:41:34 -0400 (Sun, 29 Jun 2025) EllapsedTime: 85.1 seconds RetCode: 0 Status: OK CheckDir: CNORfuzzy.Rcheck Warnings: 0