Package: CNORfeeder Version: 1.49.0 Command: F:\biocbuild\bbs-3.22-bioc\R\bin\R.exe CMD check --no-multiarch --install=check:CNORfeeder.install-out.txt --library=F:\biocbuild\bbs-3.22-bioc\R\library --no-vignettes --timings CNORfeeder_1.49.0.tar.gz StartedAt: 2025-07-18 00:32:38 -0400 (Fri, 18 Jul 2025) EndedAt: 2025-07-18 00:34:00 -0400 (Fri, 18 Jul 2025) EllapsedTime: 82.5 seconds RetCode: 0 Status: WARNINGS CheckDir: CNORfeeder.Rcheck Warnings: 4