############################################################################## ############################################################################## ### ### Running command: ### ### rm -rf CNORfeeder.buildbin-libdir && mkdir CNORfeeder.buildbin-libdir && F:\biocbuild\bbs-3.22-bioc\R\bin\R.exe CMD INSTALL --build --library=CNORfeeder.buildbin-libdir CNORfeeder_1.49.0.tar.gz ### ############################################################################## ############################################################################## * installing *source* package 'CNORfeeder' ... ** this is package 'CNORfeeder' version '1.49.0' ** using staged installation ** R ** data *** moving datasets to lazyload DB Warning: object 'model' is created by more than one data call ** inst ** byte-compile and prepare package for lazy loading ** help *** installing help indices ** building package indices ** installing vignettes ** testing if installed package can be loaded from temporary location ** testing if installed package can be loaded from final location ** testing if installed package keeps a record of temporary installation path * MD5 sums packaged installation of 'CNORfeeder' as CNORfeeder_1.49.0.zip * DONE (CNORfeeder)