Package: CNORfeeder Version: 1.49.0 Command: /Library/Frameworks/R.framework/Resources/bin/R CMD build --keep-empty-dirs --no-resave-data CNORfeeder StartedAt: 2025-06-29 15:55:06 -0400 (Sun, 29 Jun 2025) EndedAt: 2025-06-29 15:55:13 -0400 (Sun, 29 Jun 2025) EllapsedTime: 7.1 seconds RetCode: 0 Status: OK PackageFile: CNORfeeder_1.49.0.tar.gz PackageFileSize: 3.435 MiB