Package: CNORdt Version: 1.51.0 Command: /home/biocbuild/R/R/bin/R CMD build --keep-empty-dirs --no-resave-data CNORdt StartedAt: 2025-07-24 23:41:52 -0000 (Thu, 24 Jul 2025) EndedAt: 2025-07-24 23:42:38 -0000 (Thu, 24 Jul 2025) EllapsedTime: 46.0 seconds RetCode: 0 Status: OK PackageFile: CNORdt_1.51.0.tar.gz PackageFileSize: 310.8 KiB