Package: CNORdt Version: 1.51.0 Command: F:\biocbuild\bbs-3.22-bioc\R\bin\R.exe CMD check --no-multiarch --install=check:CNORdt.install-out.txt --library=F:\biocbuild\bbs-3.22-bioc\R\library --no-vignettes --timings CNORdt_1.51.0.tar.gz StartedAt: 2025-08-15 01:47:30 -0400 (Fri, 15 Aug 2025) EndedAt: 2025-08-15 01:49:40 -0400 (Fri, 15 Aug 2025) EllapsedTime: 130.2 seconds RetCode: 0 Status: OK CheckDir: CNORdt.Rcheck Warnings: 0