Package: CNEr Version: 1.45.2 Command: /home/biocbuild/R/R/bin/R CMD check --install=check:CNEr.install-out.txt --library=/home/biocbuild/R/R/site-library --no-vignettes --timings CNEr_1.45.2.tar.gz StartedAt: 2025-10-03 05:49:58 -0000 (Fri, 03 Oct 2025) EndedAt: 2025-10-03 06:01:27 -0000 (Fri, 03 Oct 2025) EllapsedTime: 688.6 seconds RetCode: 0 Status: WARNINGS CheckDir: CNEr.Rcheck Warnings: 2