Package: CNEr Version: 1.45.0 Command: /home/biocbuild/R/R/bin/R CMD build --keep-empty-dirs --no-resave-data CNEr StartedAt: 2025-07-21 22:49:56 -0000 (Mon, 21 Jul 2025) EndedAt: 2025-07-21 22:50:02 -0000 (Mon, 21 Jul 2025) EllapsedTime: 6.0 seconds RetCode: 1 Status: ERROR PackageFile: None PackageFileSize: NA