Package: CNAnorm Version: 1.55.0 Command: /Library/Frameworks/R.framework/Resources/bin/R CMD check --install=check:CNAnorm.install-out.txt --library=/Library/Frameworks/R.framework/Resources/library --no-vignettes --timings CNAnorm_1.55.0.tar.gz StartedAt: 2025-07-07 19:51:07 -0400 (Mon, 07 Jul 2025) EndedAt: 2025-07-07 19:52:11 -0400 (Mon, 07 Jul 2025) EllapsedTime: 64.2 seconds RetCode: 0 Status: OK CheckDir: CNAnorm.Rcheck Warnings: 0