Package: CNAnorm Version: 1.55.0 Command: /Library/Frameworks/R.framework/Resources/bin/R CMD build --keep-empty-dirs --no-resave-data CNAnorm StartedAt: 2025-07-01 16:32:46 -0400 (Tue, 01 Jul 2025) EndedAt: 2025-07-01 16:33:11 -0400 (Tue, 01 Jul 2025) EllapsedTime: 25.0 seconds RetCode: 0 Status: OK PackageFile: CNAnorm_1.55.0.tar.gz PackageFileSize: 1.521 MiB