Package: CMA Version: 1.67.0 Command: F:\biocbuild\bbs-3.22-bioc\R\bin\R.exe CMD check --no-multiarch --install=check:CMA.install-out.txt --library=F:\biocbuild\bbs-3.22-bioc\R\library --no-vignettes --timings CMA_1.67.0.tar.gz StartedAt: 2025-07-14 00:39:26 -0400 (Mon, 14 Jul 2025) EndedAt: 2025-07-14 00:40:48 -0400 (Mon, 14 Jul 2025) EllapsedTime: 81.9 seconds RetCode: 0 Status: OK CheckDir: CMA.Rcheck Warnings: 0