Package: CMA Version: 1.67.0 Command: rm -rf CMA.buildbin-libdir && mkdir CMA.buildbin-libdir && F:\biocbuild\bbs-3.22-bioc\R\bin\R.exe CMD INSTALL --build --library=CMA.buildbin-libdir CMA_1.67.0.tar.gz StartedAt: 2025-07-12 08:34:53 -0400 (Sat, 12 Jul 2025) EndedAt: 2025-07-12 08:35:43 -0400 (Sat, 12 Jul 2025) EllapsedTime: 50.4 seconds RetCode: 0 Status: OK PackageFile: CMA_1.67.0.zip PackageFileSize: 1.723 MiB