Package: CINdex Version: 1.37.0 Command: F:\biocbuild\bbs-3.22-bioc\R\bin\R.exe CMD INSTALL CINdex StartedAt: 2025-07-11 15:43:43 -0400 (Fri, 11 Jul 2025) EndedAt: 2025-07-11 15:44:15 -0400 (Fri, 11 Jul 2025) EllapsedTime: 31.9 seconds RetCode: 0 Status: OK