Package: CINdex Version: 1.37.0 Command: F:\biocbuild\bbs-3.22-bioc\R\bin\R.exe CMD check --no-multiarch --install=check:CINdex.install-out.txt --library=F:\biocbuild\bbs-3.22-bioc\R\library --no-vignettes --timings CINdex_1.37.0.tar.gz StartedAt: 2025-07-12 00:24:15 -0400 (Sat, 12 Jul 2025) EndedAt: 2025-07-12 00:26:50 -0400 (Sat, 12 Jul 2025) EllapsedTime: 154.3 seconds RetCode: 0 Status: WARNINGS CheckDir: CINdex.Rcheck Warnings: 2