Package: CINdex Version: 1.37.0 Command: chmod a+r CINdex -R && F:\biocbuild\bbs-3.22-bioc\R\bin\R.exe CMD build --keep-empty-dirs --no-resave-data CINdex StartedAt: 2025-07-11 17:59:37 -0400 (Fri, 11 Jul 2025) EndedAt: 2025-07-11 18:05:00 -0400 (Fri, 11 Jul 2025) EllapsedTime: 322.6 seconds RetCode: 0 Status: OK PackageFile: CINdex_1.37.0.tar.gz PackageFileSize: 12.5 MiB