Package: CINdex Version: 1.37.0 Command: /home/biocbuild/bbs-3.22-bioc/R/bin/R CMD check --install=check:CINdex.install-out.txt --library=/home/biocbuild/bbs-3.22-bioc/R/site-library --timings CINdex_1.37.0.tar.gz StartedAt: 2025-07-16 21:07:46 -0400 (Wed, 16 Jul 2025) EndedAt: 2025-07-16 21:13:15 -0400 (Wed, 16 Jul 2025) EllapsedTime: 329.4 seconds RetCode: 1 Status: ERROR CheckDir: CINdex.Rcheck Warnings: NA