Package: CINdex Version: 1.37.0 Command: /home/biocbuild/bbs-3.22-bioc/R/bin/R CMD build --keep-empty-dirs --no-resave-data --md5 CINdex StartedAt: 2025-07-16 16:48:49 -0400 (Wed, 16 Jul 2025) EndedAt: 2025-07-16 16:51:54 -0400 (Wed, 16 Jul 2025) EllapsedTime: 185.2 seconds RetCode: 0 Status: OK PackageFile: CINdex_1.37.0.tar.gz PackageFileSize: 12.51 MiB