Package: CHRONOS Version: 1.37.0 Command: /Library/Frameworks/R.framework/Resources/bin/R CMD INSTALL CHRONOS StartedAt: 2025-07-14 15:31:34 -0400 (Mon, 14 Jul 2025) EndedAt: 2025-07-14 15:32:01 -0400 (Mon, 14 Jul 2025) EllapsedTime: 27.4 seconds RetCode: 0 Status: OK