Package: CHRONOS Version: 1.37.0 Command: /Library/Frameworks/R.framework/Resources/bin/R CMD build --keep-empty-dirs --no-resave-data CHRONOS StartedAt: 2025-07-14 16:27:21 -0400 (Mon, 14 Jul 2025) EndedAt: 2025-07-14 16:27:57 -0400 (Mon, 14 Jul 2025) EllapsedTime: 35.4 seconds RetCode: 0 Status: OK PackageFile: CHRONOS_1.37.0.tar.gz PackageFileSize: 1.118 MiB