Package: CHRONOS Version: 1.37.0 Command: rm -rf CHRONOS.buildbin-libdir && mkdir CHRONOS.buildbin-libdir && /Users/biocbuild/BBS/utils/build-universal.sh CHRONOS_1.37.0.tar.gz /Library/Frameworks/R.framework/Resources/bin/R CHRONOS.buildbin-libdir StartedAt: 2025-07-15 00:50:08 -0400 (Tue, 15 Jul 2025) EndedAt: 2025-07-15 00:50:39 -0400 (Tue, 15 Jul 2025) EllapsedTime: 31.1 seconds RetCode: 0 Status: OK PackageFile: CHRONOS_1.37.0.tgz PackageFileSize: 1.302 MiB