Package: CHRONOS Version: 1.37.0 Command: /Library/Frameworks/R.framework/Resources/bin/R CMD INSTALL CHRONOS StartedAt: 2025-07-04 15:09:25 -0400 (Fri, 04 Jul 2025) EndedAt: 2025-07-04 15:09:33 -0400 (Fri, 04 Jul 2025) EllapsedTime: 8.1 seconds RetCode: 0 Status: OK