Package: CHRONOS Version: 1.37.0 Command: /Library/Frameworks/R.framework/Resources/bin/R CMD build --keep-empty-dirs --no-resave-data CHRONOS StartedAt: 2025-07-04 15:52:21 -0400 (Fri, 04 Jul 2025) EndedAt: 2025-07-04 16:32:22 -0400 (Fri, 04 Jul 2025) EllapsedTime: 2400.7 seconds RetCode: None Status: TIMEOUT PackageFile: None PackageFileSize: NA