Package: CHETAH Version: 1.25.0 Command: /home/biocbuild/R/R/bin/R CMD check --install=check:CHETAH.install-out.txt --library=/home/biocbuild/R/R/site-library --no-vignettes --timings CHETAH_1.25.0.tar.gz StartedAt: 2025-10-03 05:35:25 -0000 (Fri, 03 Oct 2025) EndedAt: 2025-10-03 05:40:32 -0000 (Fri, 03 Oct 2025) EllapsedTime: 307.3 seconds RetCode: 0 Status: OK CheckDir: CHETAH.Rcheck Warnings: 0