Package: CHETAH Version: 1.25.0 Command: F:\biocbuild\bbs-3.22-bioc\R\bin\R.exe CMD INSTALL CHETAH StartedAt: 2025-07-20 16:01:24 -0400 (Sun, 20 Jul 2025) EndedAt: 2025-07-20 16:02:00 -0400 (Sun, 20 Jul 2025) EllapsedTime: 35.7 seconds RetCode: 0 Status: OK