Package: CHETAH Version: 1.25.0 Command: chmod a+r CHETAH -R && F:\biocbuild\bbs-3.22-bioc\R\bin\R.exe CMD build --keep-empty-dirs --no-resave-data CHETAH StartedAt: 2025-07-20 17:56:17 -0400 (Sun, 20 Jul 2025) EndedAt: 2025-07-20 17:57:40 -0400 (Sun, 20 Jul 2025) EllapsedTime: 82.4 seconds RetCode: 0 Status: OK PackageFile: CHETAH_1.25.0.tar.gz PackageFileSize: 3.258 MiB