Package: CHETAH Version: 1.25.0 Command: /Library/Frameworks/R.framework/Resources/bin/R CMD INSTALL CHETAH StartedAt: 2025-07-07 15:29:02 -0400 (Mon, 07 Jul 2025) EndedAt: 2025-07-07 15:29:13 -0400 (Mon, 07 Jul 2025) EllapsedTime: 11.6 seconds RetCode: 0 Status: OK