Package: CHETAH Version: 1.25.0 Command: /Library/Frameworks/R.framework/Resources/bin/R CMD check --install=check:CHETAH.install-out.txt --library=/Library/Frameworks/R.framework/Resources/library --no-vignettes --timings CHETAH_1.25.0.tar.gz StartedAt: 2025-07-07 18:26:50 -0400 (Mon, 07 Jul 2025) EndedAt: 2025-07-07 18:28:21 -0400 (Mon, 07 Jul 2025) EllapsedTime: 90.1 seconds RetCode: 0 Status: OK CheckDir: CHETAH.Rcheck Warnings: 0