Package: CHETAH Version: 1.25.0 Command: /Library/Frameworks/R.framework/Resources/bin/R CMD build --keep-empty-dirs --no-resave-data CHETAH StartedAt: 2025-07-07 15:50:11 -0400 (Mon, 07 Jul 2025) EndedAt: 2025-07-07 15:50:35 -0400 (Mon, 07 Jul 2025) EllapsedTime: 24.3 seconds RetCode: 0 Status: OK PackageFile: CHETAH_1.25.0.tar.gz PackageFileSize: 3.579 MiB