Package: CGHregions Version: 1.67.0 Command: /home/biocbuild/R/R/bin/R CMD INSTALL CGHregions StartedAt: 2025-06-30 20:30:01 -0000 (Mon, 30 Jun 2025) EndedAt: 2025-06-30 20:30:07 -0000 (Mon, 30 Jun 2025) EllapsedTime: 5.7 seconds RetCode: 0 Status: OK