Package: CGHregions Version: 1.67.0 Command: /home/biocbuild/R/R/bin/R CMD check --install=check:CGHregions.install-out.txt --library=/home/biocbuild/R/R/site-library --no-vignettes --timings CGHregions_1.67.0.tar.gz StartedAt: 2025-07-01 05:45:31 -0000 (Tue, 01 Jul 2025) EndedAt: 2025-07-01 05:46:07 -0000 (Tue, 01 Jul 2025) EllapsedTime: 36.0 seconds RetCode: 0 Status: OK CheckDir: CGHregions.Rcheck Warnings: 0