Package: CGHregions Version: 1.67.0 Command: /Library/Frameworks/R.framework/Resources/bin/R CMD INSTALL CGHregions StartedAt: 2025-07-02 15:11:07 -0400 (Wed, 02 Jul 2025) EndedAt: 2025-07-02 15:11:09 -0400 (Wed, 02 Jul 2025) EllapsedTime: 2.2 seconds RetCode: 0 Status: OK