Package: CGHregions Version: 1.67.0 Command: /Library/Frameworks/R.framework/Resources/bin/R CMD build --keep-empty-dirs --no-resave-data CGHregions StartedAt: 2025-07-02 15:51:27 -0400 (Wed, 02 Jul 2025) EndedAt: 2025-07-02 15:51:33 -0400 (Wed, 02 Jul 2025) EllapsedTime: 6.1 seconds RetCode: 0 Status: OK PackageFile: CGHregions_1.67.0.tar.gz PackageFileSize: 213.2 KiB