Package: CGHregions Version: 1.67.0 Command: rm -rf CGHregions.buildbin-libdir && mkdir CGHregions.buildbin-libdir && /Users/biocbuild/BBS/utils/build-universal.sh CGHregions_1.67.0.tar.gz /Library/Frameworks/R.framework/Resources/bin/R CGHregions.buildbin-libdir StartedAt: 2025-07-04 22:12:57 -0400 (Fri, 04 Jul 2025) EndedAt: 2025-07-04 22:12:59 -0400 (Fri, 04 Jul 2025) EllapsedTime: 2.0 seconds RetCode: 0 Status: OK PackageFile: CGHregions_1.67.0.tgz PackageFileSize: 245.1 KiB