Package: CGHnormaliter Version: 1.63.0 Command: F:\biocbuild\bbs-3.22-bioc\R\bin\R.exe CMD check --no-multiarch --install=check:CGHnormaliter.install-out.txt --library=F:\biocbuild\bbs-3.22-bioc\R\library --no-vignettes --timings CGHnormaliter_1.63.0.tar.gz StartedAt: 2025-07-15 00:21:36 -0400 (Tue, 15 Jul 2025) EndedAt: 2025-07-15 00:23:21 -0400 (Tue, 15 Jul 2025) EllapsedTime: 105.6 seconds RetCode: 0 Status: OK CheckDir: CGHnormaliter.Rcheck Warnings: 0