Package: CGHnormaliter Version: 1.63.0 Command: /Library/Frameworks/R.framework/Resources/bin/R CMD INSTALL CGHnormaliter StartedAt: 2025-10-05 15:16:53 -0400 (Sun, 05 Oct 2025) EndedAt: 2025-10-05 15:17:07 -0400 (Sun, 05 Oct 2025) EllapsedTime: 13.3 seconds RetCode: 0 Status: OK