Package: CGHnormaliter Version: 1.63.0 Command: /Library/Frameworks/R.framework/Resources/bin/R CMD check --install=check:CGHnormaliter.install-out.txt --library=/Library/Frameworks/R.framework/Resources/library --no-vignettes --timings CGHnormaliter_1.63.0.tar.gz StartedAt: 2025-10-05 20:23:21 -0400 (Sun, 05 Oct 2025) EndedAt: 2025-10-05 20:24:57 -0400 (Sun, 05 Oct 2025) EllapsedTime: 96.9 seconds RetCode: 0 Status: OK CheckDir: CGHnormaliter.Rcheck Warnings: 0