Package: CGHnormaliter Version: 1.63.0 Command: /Library/Frameworks/R.framework/Resources/bin/R CMD INSTALL CGHnormaliter StartedAt: 2025-07-16 15:08:31 -0400 (Wed, 16 Jul 2025) EndedAt: 2025-07-16 15:08:34 -0400 (Wed, 16 Jul 2025) EllapsedTime: 2.3 seconds RetCode: 0 Status: OK